BEGIN:VCALENDAR
VERSION:2.0
PRODID:-//Jetlaggers - ECPv6.9.1//NONSGML v1.0//EN
CALSCALE:GREGORIAN
METHOD:PUBLISH
X-ORIGINAL-URL:https://jetlaggersclub.com
X-WR-CALDESC:Events for Jetlaggers
REFRESH-INTERVAL;VALUE=DURATION:PT1H
X-Robots-Tag:noindex
X-PUBLISHED-TTL:PT1H
BEGIN:VTIMEZONE
TZID:Europe/Paris
BEGIN:DAYLIGHT
TZOFFSETFROM:+0100
TZOFFSETTO:+0200
TZNAME:CEST
DTSTART:20240331T010000
END:DAYLIGHT
BEGIN:STANDARD
TZOFFSETFROM:+0200
TZOFFSETTO:+0100
TZNAME:CET
DTSTART:20241027T010000
END:STANDARD
END:VTIMEZONE
BEGIN:VEVENT
DTSTART;TZID=Europe/Paris:20240619T190000
DTEND;TZID=Europe/Paris:20240619T210000
DTSTAMP:20260426T015933
CREATED:20240531T111428Z
LAST-MODIFIED:20240618T102940Z
UID:77958-1718823600-1718830800@jetlaggersclub.com
SUMMARY:Apéros Frenchies x Le Petit Gathering - London
DESCRIPTION:Here we are for a new Petit Gathering in Soho! \nYou have no idea what you can do this Wednesday night? Then come with us! \nAs you loved our last meeting in London\, we planned this new gathering at Inamo! \nLet’s have a great time together around Japanese\, Chinese\, Thai and Korean cuisine. This restaurant is renowned for its innovative dining experience\, featuring interactive tables where you can order food\, play games\, and even watch the chefs at work \nWe will make sure you get everything you need and spend a good evening around nice people\, getting to know everybody! \nAre you joining us?? ☺️😍 \nLimited to 10 people – Book as soon as possible! \nPRICE :\n£25 including a glass of wine and tapas to share via revolut \n30€ including a glass of wine and tapas to share via website \n\nJoin the Jetlaggers Membership and experience the ultimate  premium treatment. Enjoy perks like priority bar access\, reserved area\, complimentary welcome drinks\, free capsule events and exclusive private parties. Don’t miss out on this opportunity to take your social life to the next level. Get your jetlagger boarding pass now! \n\nIMPORTANT INFORMATION \nBy attending the Petit Gathering at Inamo Soho on 19.06\, in London organized by Apéros Frenchies\, you confirm that you grant Apéros Frenchies the permission to take and use audio or visual recordings and pictures of you that may be displayed on the Apéros Frenchies website or social media accounts for general publicity purposes. Your personal data will not be shared with any of our partners. \nThe ticket is non-refundable starting 48 hours before the event.
URL:https://jetlaggersclub.com/event/aperos-frenchies-x-le-petit-gathering-london-4/
LOCATION:Inamo Soho\, 134-136 Wardour Street\, London\, W1F 8ZS\, United Kingdom
ATTACH;FMTTYPE=image/png:https://jetlaggersclub.com/wp-content/uploads/2024/05/unnamed-file.png
ORGANIZER;CN="Jetlaggers":MAILTO:info@jetlaggersclub.com
END:VEVENT
END:VCALENDAR