BEGIN:VCALENDAR
VERSION:2.0
PRODID:-//Jetlaggers - ECPv6.9.1//NONSGML v1.0//EN
CALSCALE:GREGORIAN
METHOD:PUBLISH
X-WR-CALNAME:Jetlaggers
X-ORIGINAL-URL:https://jetlaggersclub.com
X-WR-CALDESC:Events for Jetlaggers
REFRESH-INTERVAL;VALUE=DURATION:PT1H
X-Robots-Tag:noindex
X-PUBLISHED-TTL:PT1H
BEGIN:VTIMEZONE
TZID:Europe/Paris
BEGIN:DAYLIGHT
TZOFFSETFROM:+0100
TZOFFSETTO:+0200
TZNAME:CEST
DTSTART:20250330T010000
END:DAYLIGHT
BEGIN:STANDARD
TZOFFSETFROM:+0200
TZOFFSETTO:+0100
TZNAME:CET
DTSTART:20251026T010000
END:STANDARD
END:VTIMEZONE
BEGIN:VEVENT
DTSTART;TZID=Europe/Paris:20250320T183000
DTEND;TZID=Europe/Paris:20250321T020000
DTSTAMP:20260426T001920
CREATED:20250212T144456Z
LAST-MODIFIED:20250320T172524Z
UID:93188-1742495400-1742522400@jetlaggersclub.com
SUMMARY:Jetlaggers Afterwork at Canopy by Hilton – Paris
DESCRIPTION:Les amis\, we’re heading back to one of your favorite destinations! ✈️🌍 Are you ready for another unforgettable Jetlaggers Afterwork at Canopy by Hilton – Paris? \nWith breathtaking Eiffel Tower views\, this venue offers the perfect setting for a memorable evening. 🌎✨ Our community already loves this spot\, and we can’t wait to experience it with you again! \nAnd for this special edition\, we’re thrilled to have Whisky Laferté on board! 🥃✨ Get ready to enjoy expertly crafted cocktails\, blending refined flavors that will delight both men and women alike. A tasting journey designed for true explorers of taste! 🍸 \n📅 Event Date: Thursday\, March 20th \n🕒 Time: 6:30 PM – 2:00 AM \n📍 Location: Canopy by Hilton\, Paris \n‼️ Spots are limited. Don’t miss out! \nDJ set by Alex\, photographer and amazing encounters! \n  \nEntry is FREE\, but consumption is required🍸 \n  \nTo join this event\, you’ll need to create an account on our website. \nFor a more exclusive experience\, be sure to explore our Jetlaggers  Premium Membership for special perks and VIP treatment!✨🍸 \n✈️Don’t forget to share your memories with us on Instagram \n\nIMPORTANT INFORMATION \nIf you can not make it\, please send an email to info@jetlaggersclub.com \nThe management reserves the right to deny entry to participants at this afterwork. \nBy attending the Jetlaggers Afterwork at Canopy by Hilton – Paris on 20.03.2025 organised by Jetlaggers\, you confirm that you grant Jetlaggers the permission to take and use audio or visual recordings and photographs of you that may be displayed on the Jetlaggers website or social media accounts and for general publicity purposes; your personal data wont be shared with any of our partners.
URL:https://jetlaggersclub.com/event/jetlaggers-afterwork-at-canopy-by-hilton-paris/
LOCATION:canopy by hilton\, 16 avenue d'eylau\, Paris\, 75116\, France
ATTACH;FMTTYPE=image/png:https://jetlaggersclub.com/wp-content/uploads/2025/02/canopy-trocadero-1.png
ORGANIZER;CN="Jetlaggers":MAILTO:info@jetlaggersclub.com
END:VEVENT
END:VCALENDAR