BEGIN:VCALENDAR
VERSION:2.0
PRODID:-//Jetlaggers - ECPv6.9.1//NONSGML v1.0//EN
CALSCALE:GREGORIAN
METHOD:PUBLISH
X-WR-CALNAME:Jetlaggers
X-ORIGINAL-URL:https://jetlaggersclub.com
X-WR-CALDESC:Events for Jetlaggers
REFRESH-INTERVAL;VALUE=DURATION:PT1H
X-Robots-Tag:noindex
X-PUBLISHED-TTL:PT1H
BEGIN:VTIMEZONE
TZID:Europe/Paris
BEGIN:DAYLIGHT
TZOFFSETFROM:+0100
TZOFFSETTO:+0200
TZNAME:CEST
DTSTART:20250330T010000
END:DAYLIGHT
BEGIN:STANDARD
TZOFFSETFROM:+0200
TZOFFSETTO:+0100
TZNAME:CET
DTSTART:20251026T010000
END:STANDARD
END:VTIMEZONE
BEGIN:VEVENT
DTSTART;TZID=Europe/Paris:20250227T183000
DTEND;TZID=Europe/Paris:20250228T000000
DTSTAMP:20260425T194038
CREATED:20250115T123628Z
LAST-MODIFIED:20250226T205011Z
UID:91987-1740681000-1740700800@jetlaggersclub.com
SUMMARY:Jetlaggers Afterwork at Copper Bar - Frankfurt
DESCRIPTION:Join us for our Jetlaggers Afterwork at Copper Bar – Frankfurt! \nWe’re thrilled to be back at the well-known Copper Bar\, a favorite hotspot among locals in Frankfurt! If you missed our last afterwork event\, now’s your chance enjoy the Jetlaggers vibes—where great energy\, delicious drinks\, and unforgettable memories come together seamlessly. \nReconnect with familiar faces\, meet new ones\, and enjoy an evening filled with laughter\, music\, and the relaxed yet vibrant energy that makes Jetlaggers events so special. Whether you’re here to relax after work or expand your network\, this is the perfect setting to do it all. \nDon’t miss out—grab your ticket now and join us for an evening you won’t forget! ✨ \n  \n📅 Event Date: Thursday\, February 27th \n🕒 Time: 6:30 PM – 12:00 AM \n📍 Location: Copper Bar – Frankfurt \nDJ set\, photographer and amazing encounters! \n  \n💰 Entrance : 10€ online \nWelcome drink for the 50 first guests \n  \nTo join this event\, you don’t need a membership – just create an account on our website \nFor a more exclusive experience\, be sure to explore our Jetlaggers  Premium Membership for special perks and VIP treatment!✨🍸 \n✈️Don’t forget to share your memories with us on Instagram \n\nIMPORTANT INFORMATION \nIf you can not make it\, please send an email to info@jetlaggersclub.com \nThe management reserves the right to deny entry to participants at this afterwork. \nBy joining our Jetlaggers Afterwork at Copper Bar – Frankfurt on 27.02.2025\, you give Jetlaggers permission to capture and use audio or visual recordings and photos of you. These may appear on the Jetlaggers website\, social media\, or in promotional materials. Rest assured\, your personal data will not be shared with any of our partners. \nThe ticket is non-refundable starting 48 hours before the event.
URL:https://jetlaggersclub.com/event/jetlaggers-afterwork-at-copper-bar-frankfurt/
LOCATION:Copper Bar\, An d. Welle 4\, Frankfurt\, 60322\, Germany
ATTACH;FMTTYPE=image/png:https://jetlaggersclub.com/wp-content/uploads/2025/01/COPPER-BAR-27_02-1.png
ORGANIZER;CN="Jetlaggers":MAILTO:info@jetlaggersclub.com
END:VEVENT
BEGIN:VEVENT
DTSTART;TZID=Europe/Paris:20250227T183000
DTEND;TZID=Europe/Paris:20250228T000000
DTSTAMP:20260425T194038
CREATED:20250115T130133Z
LAST-MODIFIED:20250227T155636Z
UID:92025-1740681000-1740700800@jetlaggersclub.com
SUMMARY:Jetlaggers Afterwork at Villa Marquis - Paris
DESCRIPTION:Join us for an unforgettable Jetlaggers Afterwork at Villa Marquis – Paris ! \nWe don’t need to introduce this iconic venue. Located in the heart of the Golden Triangle in Paris\, the restaurant\, Dos Almas\, elegantly combines Spanish soul with sophisticated French art de vivre. \nJoin a vibrant crowd of young professionals for an evening of great music\, refreshing drinks\, and inspiring conversations in an unparalleled setting. 🍸🎶 \nSecure your spot and step into the timeless elegance of Villa Marquis for an exceptional evening! \n  \n📅 Event Date: Thursday\, February 27th \n🕒 Time: 6:30 PM – 12:00 AM \n📍 Location: Villa Marquis Paris \nDress code: casual chic \n‼️ Spots are limited. Don’t miss out! \nDJ set\, photographer and amazing encounters! \n  \nEntry is free\, but consumption is required. \n  \nTo join this event\, you’ll need to create an account on our website. \nFor a more exclusive experience\, be sure to explore our Jetlaggers  Premium Membership for special perks and VIP treatment!✨🍸 \n✈️Don’t forget to share your memories with us on Instagram \n\nIMPORTANT INFORMATION \nIf you can not make it\, please send an email to info@jetlaggersclub.com \nThe management reserves the right to deny entry to participants at this afterwork. \nBy attending our Jetlaggers Afterwork at Villa Marquis – Paris on 27.02.2025 organized by Jetlaggers\, you confirm that you grant Jetlaggers the permission to take and use audio or visual recordings and photographs of you that may be displayed on the Jetlaggers website or social media accounts and for general publicity purposes; your personal data won’t be shared with any of our partners.
URL:https://jetlaggersclub.com/event/jetlaggers-afterwork-at-villa-marquis-paris/
LOCATION:Villa Marquis\, Restaurant 2 Almas\, 35 Rue Jean Goujon\, Paris\, 75008\, France
ATTACH;FMTTYPE=image/png:https://jetlaggersclub.com/wp-content/uploads/2025/01/r.png
ORGANIZER;CN="Jetlaggers":MAILTO:info@jetlaggersclub.com
END:VEVENT
END:VCALENDAR