BEGIN:VCALENDAR
VERSION:2.0
PRODID:-//Jetlaggers - ECPv6.9.1//NONSGML v1.0//EN
CALSCALE:GREGORIAN
METHOD:PUBLISH
X-ORIGINAL-URL:https://jetlaggersclub.com
X-WR-CALDESC:Events for Jetlaggers
REFRESH-INTERVAL;VALUE=DURATION:PT1H
X-Robots-Tag:noindex
X-PUBLISHED-TTL:PT1H
BEGIN:VTIMEZONE
TZID:Europe/Paris
BEGIN:DAYLIGHT
TZOFFSETFROM:+0100
TZOFFSETTO:+0200
TZNAME:CEST
DTSTART:20250330T010000
END:DAYLIGHT
BEGIN:STANDARD
TZOFFSETFROM:+0200
TZOFFSETTO:+0100
TZNAME:CET
DTSTART:20251026T010000
END:STANDARD
END:VTIMEZONE
BEGIN:VEVENT
DTSTART;TZID=Europe/Paris:20250327T183000
DTEND;TZID=Europe/Paris:20250328T000000
DTSTAMP:20260424T190857
CREATED:20250217T160844Z
LAST-MODIFIED:20250326T195645Z
UID:93201-1743100200-1743120000@jetlaggersclub.com
SUMMARY:Jetlaggers x WeRoad Afterwork at Pley Hotel – Paris
DESCRIPTION:We’re back at one of our all-time favorite Pleyground for another Jetlaggers x WeRoad Afterwork at Pley Hotel – Paris! 🍸🎶 This long-time partner remains the perfect place to bring together travelers\, expatriates\, and adventure lovers for a night filled with great energy\, new connections\, and unforgettable moments. \nExpect international vibes\, inspiring encounters\, and the perfect setting to share your best travel stories—whether you’re fresh off a trip or planning your next escape. 🌎✨ \nYou’ll once again find our amazing partner WeRoad on board for this journey\, bringing fun games\, a lottery\, and surprises to make your night even more epic! \nJetlaggers crew\, are you in for this next stopover? Secure your spot now and let’s make it another legendary night! 🚀🔥 \n  \n📅 Event Date: Thursday\, March 27th \n🕒 Time: 6:30 PM – 12:00 AM \n📍 Location: Pley Hotel\, Paris \n‼️ Spots are limited. Don’t miss out! \nDJ set\, photographer and amazing encounters! \n  \nEntry is FREE\, but consumption is required🍸 \n  \nTo join this event\, you’ll need to create an account on our website. \nFor a more exclusive experience\, be sure to explore our Jetlaggers  Premium Membership for special perks and VIP treatment!✨🍸 \n✈️Don’t forget to share your memories with us on Instagram \n\nIMPORTANT INFORMATION\nIf you can not make it\, please send an email to info@jetlaggersclub.com \nThe management reserves the right to deny entry to participants at this afterwork. \nBy attending our Jetlaggers x WeRoad Afterwork at Pley Hotel – Paris on 27.03.2025 organized by Jetlaggers\, you confirm that you grant Jetlaggers the permission to take and use audio or visual recordings and photographs of you that may be displayed on the Jetlaggers website or social media accounts and for general publicity purposes; your personal data won’t be shared with any of our partners.
URL:https://jetlaggersclub.com/event/jetlaggers-x-weroad-afterwork-at-pley-hotel-paris/
LOCATION:Pley Hotel\, 214 rue du Faubourg Saint - Honoré\, Paris\, Paris\, 75008\, France
ATTACH;FMTTYPE=image/png:https://jetlaggersclub.com/wp-content/uploads/2025/02/fez.png
ORGANIZER;CN="Jetlaggers":MAILTO:info@jetlaggersclub.com
END:VEVENT
END:VCALENDAR