BEGIN:VCALENDAR
VERSION:2.0
PRODID:-//Jetlaggers - ECPv6.9.1//NONSGML v1.0//EN
CALSCALE:GREGORIAN
METHOD:PUBLISH
X-WR-CALNAME:Jetlaggers
X-ORIGINAL-URL:https://jetlaggersclub.com
X-WR-CALDESC:Events for Jetlaggers
REFRESH-INTERVAL;VALUE=DURATION:PT1H
X-Robots-Tag:noindex
X-PUBLISHED-TTL:PT1H
BEGIN:VTIMEZONE
TZID:Europe/Paris
BEGIN:DAYLIGHT
TZOFFSETFROM:+0100
TZOFFSETTO:+0200
TZNAME:CEST
DTSTART:20250330T010000
END:DAYLIGHT
BEGIN:STANDARD
TZOFFSETFROM:+0200
TZOFFSETTO:+0100
TZNAME:CET
DTSTART:20251026T010000
END:STANDARD
END:VTIMEZONE
BEGIN:VEVENT
DTSTART;TZID=Europe/Paris:20250305T190000
DTEND;TZID=Europe/Paris:20250306T000000
DTSTAMP:20260425T165315
CREATED:20250212T140245Z
LAST-MODIFIED:20250228T170446Z
UID:93182-1741201200-1741219200@jetlaggersclub.com
SUMMARY:Jetlaggers Afterwork at Graf Rumford - Munich
DESCRIPTION:After an incredible first edition\, we’re back for another unforgettable Jetlaggers Afterwork at Graf Rumford – Munich! 🌎 This iconic venue was a crowd favorite\, and we can’t wait to welcome you again for a night of international vibes\, new encounters\, and great energy! \nGet ready to connect with fellow travelers\, share your best adventures\, and toast to future destinations in a laid-back and vibrant atmosphere. Whether you’re a seasoned explorer or just dreaming of your next trip\, this is the perfect place to fuel your wanderlust! ✈️✨ \nDear Jetlaggers community\, are you ready for another stopover in Munich? Secure your spot now and let’s make this journey unforgettable! 🚀🌍 \n  \n📅 Event Date: Wednesday\, March 5th \n🕒 Time: 7:00 PM – 12:00 AM \n📍 Location: Graf Rumford\, Munich \n‼️ Spots are limited. Don’t miss out! \nDJ set\, photographer and amazing encounters! \n  \n💰 Entrance : 10€ including a welcome drink from Citadelle Gin or Plantery Rum  \n  \nTo join this event\, you don’t need a membership – just create an account on our website \nFor a more exclusive experience\, be sure to explore our Jetlaggers  Premium Membership for special perks and VIP treatment!✨🍸 \n✈️Don’t forget to share your memories with us on Instagram \n\nIMPORTANT INFORMATION\nIf you can not make it\, please send an email to info@jetlaggersclub.com \nThe management reserves the right to deny entry to participants at this afterwork. \nBy joining our Jetlaggers Afterwork at Graf Rumford – Munich on 05.03.2025\, you give Jetlaggers permission to capture and use audio or visual recordings and photos of you. These may appear on the Jetlaggers website\, social media\, or in promotional materials. Rest assured\, your personal data will not be shared with any of our partners.
URL:https://jetlaggersclub.com/event/jetlaggers-afterwork-at-graf-rumford/
LOCATION:Graf Rumford\, Rumfordstraße 32\, München\, 80469\, Germany
ATTACH;FMTTYPE=image/png:https://jetlaggersclub.com/wp-content/uploads/2025/02/Graf-Rumford.png
ORGANIZER;CN="Jetlaggers":MAILTO:info@jetlaggersclub.com
END:VEVENT
END:VCALENDAR