BEGIN:VCALENDAR
VERSION:2.0
PRODID:-//Jetlaggers - ECPv6.9.1//NONSGML v1.0//EN
CALSCALE:GREGORIAN
METHOD:PUBLISH
X-WR-CALNAME:Jetlaggers
X-ORIGINAL-URL:https://jetlaggersclub.com
X-WR-CALDESC:Events for Jetlaggers
REFRESH-INTERVAL;VALUE=DURATION:PT1H
X-Robots-Tag:noindex
X-PUBLISHED-TTL:PT1H
BEGIN:VTIMEZONE
TZID:Europe/Paris
BEGIN:DAYLIGHT
TZOFFSETFROM:+0100
TZOFFSETTO:+0200
TZNAME:CEST
DTSTART:20260329T010000
END:DAYLIGHT
BEGIN:STANDARD
TZOFFSETFROM:+0200
TZOFFSETTO:+0100
TZNAME:CET
DTSTART:20261025T010000
END:STANDARD
END:VTIMEZONE
BEGIN:VEVENT
DTSTART;TZID=Europe/Paris:20260423T183000
DTEND;TZID=Europe/Paris:20260605T000000
DTSTAMP:20260423T011005
CREATED:20260317T140551Z
LAST-MODIFIED:20260422T093207Z
UID:110144-1776969000-1780617600@jetlaggersclub.com
SUMMARY:Jetlaggers Afterwork at Le Patio Vendôme - Paris
DESCRIPTION:You know us for spotting Paris’ next must-go places… here’s one you haven’t seen yet. ✨ \nThis time\, we’re taking you to Patio Vendôme\, a stunning new venue hidden inside the 5-star Maison Albar Hotel in Opéra. \nFormerly known as Yakuza\, the space has been completely redesigned and transformed into a refined\, elegant setting you’ll discover with us. \nJoin us for a Jetlaggers Afterwork in this newly unveiled spot: expect great drinks\, a sophisticated atmosphere\, and good music setting the tone for the evening\, with an international crowd ready to connect. \nThe perfect place to unwind after work\, meet new people\, and experience a different side of Paris. Whether you come with friends or on your own\, everything is designed to make conversations feel natural and effortless. \nJetlaggers is a safe place for expats and young professionals to meet new people over a drink\, in a welcoming and inclusive atmosphere. Each guest is personally welcomed\, and for the more shy ones\, ice breakers are here to make conversations effortless. \n⸻ \n📅 Event Date: Thursday\, April 23rd \n🕗 Time: 6:30 PM – midnight \nDJ SET \n📍 Location: Le Patio Vendôme – Maison Albar\, Paris \n‼️ Spots are limited. Don’t miss out! \n  \nEntry is FREE\, but consumption is required. \nTo join this event\, you’ll need to create an account on our website. \nFor a more exclusive experience\, be sure to explore our Jetlaggers Premium Membership for special perks and VIP treatment ✨🍸 \n✈️ Don’t forget to share your memories with us on Instagram. \n⸻ \nIMPORTANT INFORMATION \nThe management reserves the right to deny entry to participants at this afterwork. \nBy attending Jetlaggers Afterwork at Maison Albar Paris on 23.04.2026\, you confirm that you grant Jetlaggers permission to take and use audio or visual recordings and photographs that may appear on the Jetlaggers website or social media channels for communication purposes. Your personal data will not be shared with any partners. \nIf for any reason you can’t make it\, please send us an email at info@jetlaggersclub.com before  the D day  3PM. After that\, your  no-show will  be subject to penalties. \n 
URL:https://jetlaggersclub.com/event/jetlaggers-afterwork-at-le-patio-vendome-paris/
LOCATION:Maison Albar Le Vendome\, 7 Rue du Helder\, Paris\, 75009\, France
ATTACH;FMTTYPE=image/png:https://jetlaggersclub.com/wp-content/uploads/2026/03/cover-site-1.png
ORGANIZER;CN="Jetlaggers":MAILTO:info@jetlaggersclub.com
END:VEVENT
END:VCALENDAR